Package: APAlyzer
Version: 1.20.0
Command: F:\biocbuild\bbs-3.20-bioc\R\bin\R.exe CMD check --no-multiarch --install=check:APAlyzer.install-out.txt --library=F:\biocbuild\bbs-3.20-bioc\R\library --no-vignettes --timings APAlyzer_1.20.0.tar.gz
StartedAt: 2025-02-17 22:56:48 -0500 (Mon, 17 Feb 2025)
EndedAt: 2025-02-17 23:12:40 -0500 (Mon, 17 Feb 2025)
EllapsedTime: 951.5 seconds
RetCode: 0
Status: WARNINGS
CheckDir: APAlyzer.Rcheck
Warnings: 1