Package: APAlyzer Version: 1.20.0 Command: /home/biocbuild/R/R/bin/R CMD build --keep-empty-dirs --no-resave-data APAlyzer StartedAt: 2025-02-03 21:37:23 -0000 (Mon, 03 Feb 2025) EndedAt: 2025-02-03 21:39:33 -0000 (Mon, 03 Feb 2025) EllapsedTime: 130.0 seconds RetCode: 0 Status: OK PackageFile: APAlyzer_1.20.0.tar.gz PackageFileSize: 3.618 MiB