Package: APAlyzer Version: 1.20.0 Command: /home/biocbuild/R/R/bin/R CMD check --install=check:APAlyzer.install-out.txt --library=/home/biocbuild/R/R/site-library --no-vignettes --timings APAlyzer_1.20.0.tar.gz StartedAt: 2025-02-04 04:23:06 -0000 (Tue, 04 Feb 2025) EndedAt: 2025-02-04 05:05:43 -0000 (Tue, 04 Feb 2025) EllapsedTime: 2556.9 seconds RetCode: None Status: TIMEOUT CheckDir: APAlyzer.Rcheck Warnings: NA