Package: APL Version: 1.10.2 Maintainer: Clemens Kohl MaintainerEmail: kohl.clemens at gmail.com git_url: https://git.bioconductor.org/packages/APL git_branch: RELEASE_3_20 git_last_commit: d71ccae git_last_commit_date: 2024-11-04 16:23:16 -0500 (Mon, 04 Nov 2024)