Package: APL Version: 1.10.2 Command: /Library/Frameworks/R.framework/Resources/bin/R CMD build --keep-empty-dirs --no-resave-data APL StartedAt: 2025-02-03 18:44:23 -0500 (Mon, 03 Feb 2025) EndedAt: 2025-02-03 18:48:52 -0500 (Mon, 03 Feb 2025) EllapsedTime: 268.9 seconds RetCode: 0 Status: OK PackageFile: APL_1.10.2.tar.gz PackageFileSize: 2.487 MiB