Package: APL Version: 1.10.2 Command: /Library/Frameworks/R.framework/Resources/bin/R CMD check --install=check:APL.install-out.txt --library=/Library/Frameworks/R.framework/Resources/library --no-vignettes --timings APL_1.10.2.tar.gz StartedAt: 2025-02-04 11:26:02 -0500 (Tue, 04 Feb 2025) EndedAt: 2025-02-04 11:31:04 -0500 (Tue, 04 Feb 2025) EllapsedTime: 302.7 seconds RetCode: 0 Status: OK CheckDir: APL.Rcheck Warnings: 0