Package: APL Version: 1.10.2 Command: rm -rf APL.buildbin-libdir && mkdir APL.buildbin-libdir && /Users/biocbuild/BBS/utils/build-universal.sh APL_1.10.2.tar.gz /Library/Frameworks/R.framework/Resources/bin/R APL.buildbin-libdir StartedAt: 2024-11-09 16:37:23 -0500 (Sat, 09 Nov 2024) EndedAt: 2024-11-09 16:37:41 -0500 (Sat, 09 Nov 2024) EllapsedTime: 17.3 seconds RetCode: 0 Status: OK PackageFile: APL_1.10.2.tgz PackageFileSize: 2.898 MiB