Package: APL Version: 1.10.2 Command: rm -rf APL.buildbin-libdir && mkdir APL.buildbin-libdir && /Users/biocbuild/BBS/utils/build-universal.sh APL_1.10.2.tar.gz /Library/Frameworks/R.framework/Resources/bin/R APL.buildbin-libdir StartedAt: 2025-02-04 12:28:12 -0500 (Tue, 04 Feb 2025) EndedAt: 2025-02-04 12:29:42 -0500 (Tue, 04 Feb 2025) EllapsedTime: 90.1 seconds RetCode: 0 Status: OK PackageFile: APL_1.10.2.tgz PackageFileSize: 2.858 MiB