Package: APL Version: 1.10.2 Command: /Library/Frameworks/R.framework/Resources/bin/R CMD build --keep-empty-dirs --no-resave-data APL StartedAt: 2025-02-03 17:05:01 -0500 (Mon, 03 Feb 2025) EndedAt: 2025-02-03 17:11:25 -0500 (Mon, 03 Feb 2025) EllapsedTime: 383.8 seconds RetCode: 0 Status: OK PackageFile: APL_1.10.2.tar.gz PackageFileSize: 2.439 MiB