Package: APL Version: 1.10.2 Command: /Library/Frameworks/R.framework/Resources/bin/R CMD check --install=check:APL.install-out.txt --library=/Library/Frameworks/R.framework/Resources/library --no-vignettes --timings APL_1.10.2.tar.gz StartedAt: 2025-02-03 23:45:32 -0500 (Mon, 03 Feb 2025) EndedAt: 2025-02-03 23:55:12 -0500 (Mon, 03 Feb 2025) EllapsedTime: 580.4 seconds RetCode: 0 Status: OK CheckDir: APL.Rcheck Warnings: 0