Package: APL Version: 1.10.2 Command: /Library/Frameworks/R.framework/Resources/bin/R CMD INSTALL APL StartedAt: 2025-02-03 16:07:25 -0500 (Mon, 03 Feb 2025) EndedAt: 2025-02-03 16:08:51 -0500 (Mon, 03 Feb 2025) EllapsedTime: 86.3 seconds RetCode: 0 Status: OK