Package: APL Version: 1.10.2 Command: F:\biocbuild\bbs-3.20-bioc\R\bin\R.exe CMD check --no-multiarch --install=check:APL.install-out.txt --library=F:\biocbuild\bbs-3.20-bioc\R\library --no-vignettes --timings APL_1.10.2.tar.gz StartedAt: 2025-02-03 23:10:33 -0500 (Mon, 03 Feb 2025) EndedAt: 2025-02-03 23:15:57 -0500 (Mon, 03 Feb 2025) EllapsedTime: 323.7 seconds RetCode: 0 Status: OK CheckDir: APL.Rcheck Warnings: 0