Package: APL Version: 1.10.2 Command: /home/biocbuild/R/R/bin/R CMD build --keep-empty-dirs --no-resave-data APL StartedAt: 2025-02-03 21:37:27 -0000 (Mon, 03 Feb 2025) EndedAt: 2025-02-03 21:41:40 -0000 (Mon, 03 Feb 2025) EllapsedTime: 253.1 seconds RetCode: 0 Status: OK PackageFile: APL_1.10.2.tar.gz PackageFileSize: 1.229 MiB