Package: APL Version: 1.10.2 Command: /home/biocbuild/R/R/bin/R CMD check --install=check:APL.install-out.txt --library=/home/biocbuild/R/R/site-library --no-vignettes --timings APL_1.10.2.tar.gz StartedAt: 2025-02-04 04:23:44 -0000 (Tue, 04 Feb 2025) EndedAt: 2025-02-04 04:30:45 -0000 (Tue, 04 Feb 2025) EllapsedTime: 421.1 seconds RetCode: 0 Status: OK CheckDir: APL.Rcheck Warnings: 0