Package: APL Version: 1.10.2 Command: /home/biocbuild/R/R/bin/R CMD INSTALL APL StartedAt: 2025-02-03 21:01:02 -0000 (Mon, 03 Feb 2025) EndedAt: 2025-02-03 21:01:53 -0000 (Mon, 03 Feb 2025) EllapsedTime: 51.7 seconds RetCode: 0 Status: OK