Package: APL Version: 1.10.2 Command: /home/biocbuild/bbs-3.20-bioc/R/bin/R CMD INSTALL APL StartedAt: 2024-11-19 16:33:32 -0500 (Tue, 19 Nov 2024) EndedAt: 2024-11-19 16:34:05 -0500 (Tue, 19 Nov 2024) EllapsedTime: 32.7 seconds RetCode: 0 Status: OK