Package: ARRmNormalization Version: 1.46.0 Command: /Library/Frameworks/R.framework/Resources/bin/R CMD check --install=check:ARRmNormalization.install-out.txt --library=/Library/Frameworks/R.framework/Resources/library --no-vignettes --timings ARRmNormalization_1.46.0.tar.gz StartedAt: 2025-01-31 11:13:56 -0500 (Fri, 31 Jan 2025) EndedAt: 2025-01-31 11:16:04 -0500 (Fri, 31 Jan 2025) EllapsedTime: 128.0 seconds RetCode: 0 Status: OK CheckDir: ARRmNormalization.Rcheck Warnings: 0