Package: ARRmNormalization Version: 1.46.0 Command: /Library/Frameworks/R.framework/Resources/bin/R CMD build --keep-empty-dirs --no-resave-data ARRmNormalization StartedAt: 2025-01-30 17:09:12 -0500 (Thu, 30 Jan 2025) EndedAt: 2025-01-30 17:10:06 -0500 (Thu, 30 Jan 2025) EllapsedTime: 53.9 seconds RetCode: 0 Status: OK PackageFile: ARRmNormalization_1.46.0.tar.gz PackageFileSize: 1.075 MiB