Package: ARRmNormalization Version: 1.46.0 Command: /home/biocbuild/bbs-3.20-bioc/R/bin/R CMD check --install=check:ARRmNormalization.install-out.txt --library=/home/biocbuild/bbs-3.20-bioc/R/site-library --timings ARRmNormalization_1.46.0.tar.gz StartedAt: 2025-01-30 19:55:35 -0500 (Thu, 30 Jan 2025) EndedAt: 2025-01-30 19:57:21 -0500 (Thu, 30 Jan 2025) EllapsedTime: 106.2 seconds RetCode: 0 Status: OK CheckDir: ARRmNormalization.Rcheck Warnings: 0