Package: ARRmNormalization Version: 1.46.0 Command: rm -rf ARRmNormalization.buildbin-libdir && mkdir ARRmNormalization.buildbin-libdir && F:\biocbuild\bbs-3.20-bioc\R\bin\R.exe CMD INSTALL --build --library=ARRmNormalization.buildbin-libdir ARRmNormalization_1.46.0.tar.gz StartedAt: 2025-01-31 08:09:46 -0500 (Fri, 31 Jan 2025) EndedAt: 2025-01-31 08:10:23 -0500 (Fri, 31 Jan 2025) EllapsedTime: 37.0 seconds RetCode: 0 Status: OK PackageFile: ARRmNormalization_1.46.0.zip PackageFileSize: 1.024 MiB