Package: ASEB Version: 1.50.0 Command: /Library/Frameworks/R.framework/Resources/bin/R CMD check --install=check:ASEB.install-out.txt --library=/Library/Frameworks/R.framework/Resources/library --no-vignettes --timings ASEB_1.50.0.tar.gz StartedAt: 2025-02-04 11:33:36 -0500 (Tue, 04 Feb 2025) EndedAt: 2025-02-04 11:34:03 -0500 (Tue, 04 Feb 2025) EllapsedTime: 26.9 seconds RetCode: 0 Status: WARNINGS CheckDir: ASEB.Rcheck Warnings: 1