Package: ASEB Version: 1.50.0 Command: rm -rf ASEB.buildbin-libdir && mkdir ASEB.buildbin-libdir && /Users/biocbuild/BBS/utils/build-universal.sh ASEB_1.50.0.tar.gz /Library/Frameworks/R.framework/Resources/bin/R ASEB.buildbin-libdir StartedAt: 2025-02-04 12:28:21 -0500 (Tue, 04 Feb 2025) EndedAt: 2025-02-04 12:28:38 -0500 (Tue, 04 Feb 2025) EllapsedTime: 17.2 seconds RetCode: 0 Status: OK PackageFile: ASEB_1.50.0.tgz PackageFileSize: 776.4 KiB