Package: ASEB Version: 1.50.0 Command: /home/biocbuild/bbs-3.20-bioc/R/bin/R CMD build --keep-empty-dirs --no-resave-data --md5 ASEB StartedAt: 2025-02-03 16:21:40 -0500 (Mon, 03 Feb 2025) EndedAt: 2025-02-03 16:21:55 -0500 (Mon, 03 Feb 2025) EllapsedTime: 15.0 seconds RetCode: 0 Status: OK PackageFile: ASEB_1.50.0.tar.gz PackageFileSize: 604 KiB