Package: ASEB Version: 1.50.0 Command: /home/biocbuild/R/R/bin/R CMD INSTALL ASEB StartedAt: 2025-02-10 20:08:36 -0000 (Mon, 10 Feb 2025) EndedAt: 2025-02-10 20:09:06 -0000 (Mon, 10 Feb 2025) EllapsedTime: 30.2 seconds RetCode: 0 Status: OK