Package: ASGSCA Version: 1.40.0 Command: /Library/Frameworks/R.framework/Resources/bin/R CMD check --install=check:ASGSCA.install-out.txt --library=/Library/Frameworks/R.framework/Resources/library --no-vignettes --timings ASGSCA_1.40.0.tar.gz StartedAt: 2025-02-04 11:33:43 -0500 (Tue, 04 Feb 2025) EndedAt: 2025-02-04 11:36:50 -0500 (Tue, 04 Feb 2025) EllapsedTime: 186.6 seconds RetCode: 0 Status: OK CheckDir: ASGSCA.Rcheck Warnings: 0