Package: ASGSCA Version: 1.40.0 Command: /Library/Frameworks/R.framework/Resources/bin/R CMD check --install=check:ASGSCA.install-out.txt --library=/Library/Frameworks/R.framework/Resources/library --no-vignettes --timings ASGSCA_1.40.0.tar.gz StartedAt: 2025-02-03 23:47:41 -0500 (Mon, 03 Feb 2025) EndedAt: 2025-02-03 23:55:46 -0500 (Mon, 03 Feb 2025) EllapsedTime: 485.1 seconds RetCode: 0 Status: OK CheckDir: ASGSCA.Rcheck Warnings: 0