Package: ASGSCA Version: 1.40.0 Command: /Library/Frameworks/R.framework/Resources/bin/R CMD INSTALL ASGSCA StartedAt: 2025-02-03 15:12:52 -0500 (Mon, 03 Feb 2025) EndedAt: 2025-02-03 15:13:00 -0500 (Mon, 03 Feb 2025) EllapsedTime: 7.9 seconds RetCode: 0 Status: OK