Package: ASGSCA Version: 1.40.0 Command: /home/biocbuild/bbs-3.20-bioc/R/bin/R CMD build --keep-empty-dirs --no-resave-data --md5 ASGSCA StartedAt: 2025-02-03 16:21:42 -0500 (Mon, 03 Feb 2025) EndedAt: 2025-02-03 16:24:12 -0500 (Mon, 03 Feb 2025) EllapsedTime: 150.1 seconds RetCode: 0 Status: OK PackageFile: ASGSCA_1.40.0.tar.gz PackageFileSize: 1.294 MiB