Package: ASICS Version: 2.22.0 Command: /Library/Frameworks/R.framework/Resources/bin/R CMD build --keep-empty-dirs --no-resave-data ASICS StartedAt: 2025-02-03 17:06:10 -0500 (Mon, 03 Feb 2025) EndedAt: 2025-02-03 17:12:16 -0500 (Mon, 03 Feb 2025) EllapsedTime: 366.3 seconds RetCode: 0 Status: OK PackageFile: ASICS_2.22.0.tar.gz PackageFileSize: 3.582 MiB