Package: ASICS Version: 2.22.0 Command: /Library/Frameworks/R.framework/Resources/bin/R CMD check --install=check:ASICS.install-out.txt --library=/Library/Frameworks/R.framework/Resources/library --no-vignettes --timings ASICS_2.22.0.tar.gz StartedAt: 2025-02-03 23:47:53 -0500 (Mon, 03 Feb 2025) EndedAt: 2025-02-04 00:12:03 -0500 (Tue, 04 Feb 2025) EllapsedTime: 1450.5 seconds RetCode: 0 Status: WARNINGS CheckDir: ASICS.Rcheck Warnings: 1