Package: ASICS Version: 2.22.0 Command: /Library/Frameworks/R.framework/Resources/bin/R CMD INSTALL ASICS StartedAt: 2025-02-03 16:41:01 -0500 (Mon, 03 Feb 2025) EndedAt: 2025-02-03 16:42:14 -0500 (Mon, 03 Feb 2025) EllapsedTime: 73.5 seconds RetCode: 0 Status: OK