Package: ASICS Version: 2.22.0 Command: /home/biocbuild/R/R/bin/R CMD INSTALL ASICS StartedAt: 2025-02-10 21:02:25 -0000 (Mon, 10 Feb 2025) EndedAt: 2025-02-10 21:03:08 -0000 (Mon, 10 Feb 2025) EllapsedTime: 43.1 seconds RetCode: 0 Status: OK