Package: ASSET
Version: 2.24.0
Command: /Library/Frameworks/R.framework/Resources/bin/R CMD build --keep-empty-dirs --no-resave-data ASSET
StartedAt: 2024-11-19 15:56:45 -0500 (Tue, 19 Nov 2024)
EndedAt: 2024-11-19 15:57:08 -0500 (Tue, 19 Nov 2024)
EllapsedTime: 22.8 seconds
RetCode: 0
Status: OK
PackageFile: ASSET_2.24.0.tar.gz
PackageFileSize: 322.6 <A href="http://en.wikipedia.org/wiki/KiB" target="_blank">KiB</A>