Package: ASSET Version: 2.24.0 Command: /home/biocbuild/bbs-3.20-bioc/R/bin/R CMD check --install=check:ASSET.install-out.txt --library=/home/biocbuild/bbs-3.20-bioc/R/site-library --timings ASSET_2.24.0.tar.gz StartedAt: 2025-02-03 20:06:42 -0500 (Mon, 03 Feb 2025) EndedAt: 2025-02-03 20:08:35 -0500 (Mon, 03 Feb 2025) EllapsedTime: 113.1 seconds RetCode: 0 Status: OK CheckDir: ASSET.Rcheck Warnings: 0