Package: ASSET Version: 2.24.0 Command: /home/biocbuild/bbs-3.20-bioc/R/bin/R CMD INSTALL ASSET StartedAt: 2025-02-03 16:09:42 -0500 (Mon, 03 Feb 2025) EndedAt: 2025-02-03 16:09:51 -0500 (Mon, 03 Feb 2025) EllapsedTime: 9.1 seconds RetCode: 0 Status: OK