Package: ASSET Version: 2.24.0 Command: rm -rf ASSET.buildbin-libdir && mkdir ASSET.buildbin-libdir && F:\biocbuild\bbs-3.20-bioc\R\bin\R.exe CMD INSTALL --build --library=ASSET.buildbin-libdir ASSET_2.24.0.tar.gz StartedAt: 2025-02-04 07:59:22 -0500 (Tue, 04 Feb 2025) EndedAt: 2025-02-04 07:59:44 -0500 (Tue, 04 Feb 2025) EllapsedTime: 21.7 seconds RetCode: 0 Status: OK PackageFile: ASSET_2.24.0.zip PackageFileSize: 478.5 KiB