Package: ASSET Version: 2.24.0 Command: /home/biocbuild/R/R/bin/R CMD INSTALL ASSET StartedAt: 2025-02-03 21:23:38 -0000 (Mon, 03 Feb 2025) EndedAt: 2025-02-03 21:23:48 -0000 (Mon, 03 Feb 2025) EllapsedTime: 10.2 seconds RetCode: 0 Status: OK