Package: ASURAT Version: 1.10.0 Command: rm -rf ASURAT.buildbin-libdir && mkdir ASURAT.buildbin-libdir && /Users/biocbuild/BBS/utils/build-universal.sh ASURAT_1.10.0.tar.gz /Library/Frameworks/R.framework/Resources/bin/R ASURAT.buildbin-libdir StartedAt: 2025-02-05 14:50:32 -0500 (Wed, 05 Feb 2025) EndedAt: 2025-02-05 14:51:15 -0500 (Wed, 05 Feb 2025) EllapsedTime: 43.2 seconds RetCode: 0 Status: OK PackageFile: ASURAT_1.10.0.tgz PackageFileSize: 3.601 MiB