Package: ASURAT Version: 1.10.0 Command: /Library/Frameworks/R.framework/Resources/bin/R CMD build --keep-empty-dirs --no-resave-data ASURAT StartedAt: 2025-02-03 18:50:22 -0500 (Mon, 03 Feb 2025) EndedAt: 2025-02-03 19:05:07 -0500 (Mon, 03 Feb 2025) EllapsedTime: 885.9 seconds RetCode: 0 Status: OK PackageFile: ASURAT_1.10.0.tar.gz PackageFileSize: 1.741 MiB