Package: ASURAT Version: 1.10.0 Command: /home/biocbuild/R/R/bin/R CMD build --keep-empty-dirs --no-resave-data ASURAT StartedAt: 2025-02-03 21:40:36 -0000 (Mon, 03 Feb 2025) EndedAt: 2025-02-03 22:20:37 -0000 (Mon, 03 Feb 2025) EllapsedTime: 2400.7 seconds RetCode: None Status: TIMEOUT PackageFile: None PackageFileSize: NA