Package: ASpli Version: 2.16.0 Command: chmod a+r ASpli -R && F:\biocbuild\bbs-3.20-bioc\R\bin\R.exe CMD build --keep-empty-dirs --no-resave-data ASpli StartedAt: 2025-02-17 17:19:25 -0500 (Mon, 17 Feb 2025) EndedAt: 2025-02-17 17:23:23 -0500 (Mon, 17 Feb 2025) EllapsedTime: 238.2 seconds RetCode: 0 Status: OK PackageFile: ASpli_2.16.0.tar.gz PackageFileSize: 4.783 <A href="http://en.wikipedia.org/wiki/MiB" target="_blank">MiB</A>