Package: ATACseqQC Version: 1.30.0 Command: rm -rf ATACseqQC.buildbin-libdir && mkdir ATACseqQC.buildbin-libdir && /Users/biocbuild/BBS/utils/build-universal.sh ATACseqQC_1.30.0.tar.gz /Library/Frameworks/R.framework/Resources/bin/R ATACseqQC.buildbin-libdir StartedAt: 2025-02-05 14:50:32 -0500 (Wed, 05 Feb 2025) EndedAt: 2025-02-05 14:51:50 -0500 (Wed, 05 Feb 2025) EllapsedTime: 78.2 seconds RetCode: 0 Status: OK PackageFile: ATACseqQC_1.30.0.tgz PackageFileSize: 14.23 MiB