Package: ATACseqQC
Version: 1.30.0
Command: /Library/Frameworks/R.framework/Resources/bin/R CMD build --keep-empty-dirs --no-resave-data ATACseqQC
StartedAt: 2025-02-17 18:58:49 -0500 (Mon, 17 Feb 2025)
EndedAt: 2025-02-17 19:03:16 -0500 (Mon, 17 Feb 2025)
EllapsedTime: 267.3 seconds
RetCode: 0
Status: OK
PackageFile: ATACseqQC_1.30.0.tar.gz
PackageFileSize: 14.77 <A href="http://en.wikipedia.org/wiki/MiB" target="_blank">MiB</A>