Package: ATACseqQC
Version: 1.30.0
Command: /Library/Frameworks/R.framework/Resources/bin/R CMD check --install=check:ATACseqQC.install-out.txt --library=/Library/Frameworks/R.framework/Resources/library --no-vignettes --timings ATACseqQC_1.30.0.tar.gz
StartedAt: 2024-11-08 20:32:10 -0500 (Fri, 08 Nov 2024)
EndedAt: 2024-11-08 20:39:45 -0500 (Fri, 08 Nov 2024)
EllapsedTime: 455.5 seconds
RetCode: 0
Status: OK
CheckDir: ATACseqQC.Rcheck
Warnings: 0