Package: ATACseqQC
Version: 1.30.0
Command: /home/biocbuild/bbs-3.20-bioc/R/bin/R CMD build --keep-empty-dirs --no-resave-data --md5 ATACseqQC
StartedAt: 2025-02-17 16:13:54 -0500 (Mon, 17 Feb 2025)
EndedAt: 2025-02-17 16:17:18 -0500 (Mon, 17 Feb 2025)
EllapsedTime: 204.3 seconds
RetCode: 0
Status: OK
PackageFile: ATACseqQC_1.30.0.tar.gz
PackageFileSize: 14.53 <A href="http://en.wikipedia.org/wiki/MiB" target="_blank">MiB</A>