Package: ATACseqQC Version: 1.30.0 Command: /home/biocbuild/bbs-3.20-bioc/R/bin/R CMD check --install=check:ATACseqQC.install-out.txt --library=/home/biocbuild/bbs-3.20-bioc/R/site-library --timings ATACseqQC_1.30.0.tar.gz StartedAt: 2025-02-03 20:07:43 -0500 (Mon, 03 Feb 2025) EndedAt: 2025-02-03 20:20:53 -0500 (Mon, 03 Feb 2025) EllapsedTime: 790.2 seconds RetCode: 0 Status: OK CheckDir: ATACseqQC.Rcheck Warnings: 0