Package: ATACseqQC
Version: 1.29.0
Command: C:\Users\biocbuild\bbs-3.20-bioc\R\bin\R.exe CMD check --no-multiarch --install=check:ATACseqQC.install-out.txt --library=C:\Users\biocbuild\bbs-3.20-bioc\R\library --no-vignettes --timings ATACseqQC_1.29.0.tar.gz
StartedAt: 2024-07-15 21:49:05 -0400 (Mon, 15 Jul 2024)
EndedAt: 2024-07-15 21:59:49 -0400 (Mon, 15 Jul 2024)
EllapsedTime: 644.4 seconds
RetCode: 0
Status: OK
CheckDir: ATACseqQC.Rcheck
Warnings: 0