Package: ATACseqQC Version: 1.30.0 Command: /home/biocbuild/R/R/bin/R CMD build --keep-empty-dirs --no-resave-data ATACseqQC StartedAt: 2025-02-03 21:40:40 -0000 (Mon, 03 Feb 2025) EndedAt: 2025-02-03 21:44:32 -0000 (Mon, 03 Feb 2025) EllapsedTime: 232.1 seconds RetCode: 0 Status: OK PackageFile: ATACseqQC_1.30.0.tar.gz PackageFileSize: 13.93 MiB