Package: ATACseqTFEA Version: 1.8.0 Command: /home/biocbuild/R/R/bin/R CMD build --keep-empty-dirs --no-resave-data ATACseqTFEA StartedAt: 2024-11-19 22:50:42 -0000 (Tue, 19 Nov 2024) EndedAt: 2024-11-19 22:53:21 -0000 (Tue, 19 Nov 2024) EllapsedTime: 159.2 seconds RetCode: 0 Status: OK PackageFile: ATACseqTFEA_1.8.0.tar.gz PackageFileSize: 4.42 MiB