Package: ATACseqTFEA Version: 1.8.0 Command: /home/biocbuild/bbs-3.20-bioc/R/bin/R CMD INSTALL ATACseqTFEA StartedAt: 2025-02-03 15:36:20 -0500 (Mon, 03 Feb 2025) EndedAt: 2025-02-03 15:37:06 -0500 (Mon, 03 Feb 2025) EllapsedTime: 45.9 seconds RetCode: 0 Status: OK